BEGIN:VCALENDAR
VERSION:2.0
PRODID:-//Nashville First - ECPv6.15.20//NONSGML v1.0//EN
CALSCALE:GREGORIAN
METHOD:PUBLISH
X-ORIGINAL-URL:https://nashvillefirst.org
X-WR-CALDESC:Events for Nashville First
REFRESH-INTERVAL;VALUE=DURATION:PT1H
X-Robots-Tag:noindex
X-PUBLISHED-TTL:PT1H
BEGIN:VTIMEZONE
TZID:America/Chicago
BEGIN:DAYLIGHT
TZOFFSETFROM:-0600
TZOFFSETTO:-0500
TZNAME:CDT
DTSTART:20250309T080000
END:DAYLIGHT
BEGIN:STANDARD
TZOFFSETFROM:-0500
TZOFFSETTO:-0600
TZNAME:CST
DTSTART:20251102T070000
END:STANDARD
BEGIN:DAYLIGHT
TZOFFSETFROM:-0600
TZOFFSETTO:-0500
TZNAME:CDT
DTSTART:20260308T080000
END:DAYLIGHT
BEGIN:STANDARD
TZOFFSETFROM:-0500
TZOFFSETTO:-0600
TZNAME:CST
DTSTART:20261101T070000
END:STANDARD
BEGIN:DAYLIGHT
TZOFFSETFROM:-0600
TZOFFSETTO:-0500
TZNAME:CDT
DTSTART:20270314T080000
END:DAYLIGHT
BEGIN:STANDARD
TZOFFSETFROM:-0500
TZOFFSETTO:-0600
TZNAME:CST
DTSTART:20271107T070000
END:STANDARD
END:VTIMEZONE
BEGIN:VEVENT
DTSTART;TZID=America/Chicago:20260802T090000
DTEND;TZID=America/Chicago:20260802T101500
DTSTAMP:20260425T062218
CREATED:20241203T154120Z
LAST-MODIFIED:20241203T154122Z
UID:10001410-1785661200-1785665700@nashvillefirst.org
SUMMARY:Connect Groups - Small Group Bible Study
DESCRIPTION:Nashville First offers a variety of small group Bible Studies called “Connect Groups.” These meet on Sunday mornings beginning at 9 a.m. Our First Kids and First Students are divided into age groups. Most of our adult classes are separated by topic\, age\, or interests. \nClick here for a list of groups. 
URL:https://nashvillefirst.org/event/connect-groups-small-group-bible-study-2/2026-08-02/
CATEGORIES:Churchwide
ATTACH;FMTTYPE=image/jpeg:https://nashvillefirst.org/wp-content/uploads/2023/06/connectgroups-logo.jpg
END:VEVENT
BEGIN:VEVENT
DTSTART;TZID=America/Chicago:20260802T103000
DTEND;TZID=America/Chicago:20260802T113000
DTSTAMP:20260425T062218
CREATED:20240308T170451Z
LAST-MODIFIED:20250224T202700Z
UID:10001149-1785666600-1785670200@nashvillefirst.org
SUMMARY:Worship Gathering
DESCRIPTION:Share genuine worship in our Sanctuary Service featuring the powerful preaching of God’s Word.
URL:https://nashvillefirst.org/event/39764-2/2026-08-02/
LOCATION:The Sanctuary\, 108 7th Ave S\, NASHVILLE\, TN\, 37203\, United States
CATEGORIES:Churchwide
ATTACH;FMTTYPE=image/jpeg:https://nashvillefirst.org/wp-content/uploads/2023/06/sundayworship.jpg
END:VEVENT
BEGIN:VEVENT
DTSTART;TZID=America/Chicago:20260809T090000
DTEND;TZID=America/Chicago:20260809T101500
DTSTAMP:20260425T062218
CREATED:20241203T154120Z
LAST-MODIFIED:20241203T154122Z
UID:10001411-1786266000-1786270500@nashvillefirst.org
SUMMARY:Connect Groups - Small Group Bible Study
DESCRIPTION:Nashville First offers a variety of small group Bible Studies called “Connect Groups.” These meet on Sunday mornings beginning at 9 a.m. Our First Kids and First Students are divided into age groups. Most of our adult classes are separated by topic\, age\, or interests. \nClick here for a list of groups. 
URL:https://nashvillefirst.org/event/connect-groups-small-group-bible-study-2/2026-08-09/
CATEGORIES:Churchwide
ATTACH;FMTTYPE=image/jpeg:https://nashvillefirst.org/wp-content/uploads/2023/06/connectgroups-logo.jpg
END:VEVENT
BEGIN:VEVENT
DTSTART;TZID=America/Chicago:20260809T103000
DTEND;TZID=America/Chicago:20260809T113000
DTSTAMP:20260425T062218
CREATED:20240308T170451Z
LAST-MODIFIED:20250224T202700Z
UID:10001150-1786271400-1786275000@nashvillefirst.org
SUMMARY:Worship Gathering
DESCRIPTION:Share genuine worship in our Sanctuary Service featuring the powerful preaching of God’s Word.
URL:https://nashvillefirst.org/event/39764-2/2026-08-09/
LOCATION:The Sanctuary\, 108 7th Ave S\, NASHVILLE\, TN\, 37203\, United States
CATEGORIES:Churchwide
ATTACH;FMTTYPE=image/jpeg:https://nashvillefirst.org/wp-content/uploads/2023/06/sundayworship.jpg
END:VEVENT
BEGIN:VEVENT
DTSTART;TZID=America/Chicago:20260816T090000
DTEND;TZID=America/Chicago:20260816T101500
DTSTAMP:20260425T062218
CREATED:20241203T154120Z
LAST-MODIFIED:20241203T154122Z
UID:10001412-1786870800-1786875300@nashvillefirst.org
SUMMARY:Connect Groups - Small Group Bible Study
DESCRIPTION:Nashville First offers a variety of small group Bible Studies called “Connect Groups.” These meet on Sunday mornings beginning at 9 a.m. Our First Kids and First Students are divided into age groups. Most of our adult classes are separated by topic\, age\, or interests. \nClick here for a list of groups. 
URL:https://nashvillefirst.org/event/connect-groups-small-group-bible-study-2/2026-08-16/
CATEGORIES:Churchwide
ATTACH;FMTTYPE=image/jpeg:https://nashvillefirst.org/wp-content/uploads/2023/06/connectgroups-logo.jpg
END:VEVENT
BEGIN:VEVENT
DTSTART;TZID=America/Chicago:20260816T103000
DTEND;TZID=America/Chicago:20260816T113000
DTSTAMP:20260425T062218
CREATED:20240308T170451Z
LAST-MODIFIED:20250224T202700Z
UID:10001151-1786876200-1786879800@nashvillefirst.org
SUMMARY:Worship Gathering
DESCRIPTION:Share genuine worship in our Sanctuary Service featuring the powerful preaching of God’s Word.
URL:https://nashvillefirst.org/event/39764-2/2026-08-16/
LOCATION:The Sanctuary\, 108 7th Ave S\, NASHVILLE\, TN\, 37203\, United States
CATEGORIES:Churchwide
ATTACH;FMTTYPE=image/jpeg:https://nashvillefirst.org/wp-content/uploads/2023/06/sundayworship.jpg
END:VEVENT
BEGIN:VEVENT
DTSTART;TZID=America/Chicago:20260823T090000
DTEND;TZID=America/Chicago:20260823T101500
DTSTAMP:20260425T062219
CREATED:20241203T154120Z
LAST-MODIFIED:20241203T154122Z
UID:10001413-1787475600-1787480100@nashvillefirst.org
SUMMARY:Connect Groups - Small Group Bible Study
DESCRIPTION:Nashville First offers a variety of small group Bible Studies called “Connect Groups.” These meet on Sunday mornings beginning at 9 a.m. Our First Kids and First Students are divided into age groups. Most of our adult classes are separated by topic\, age\, or interests. \nClick here for a list of groups. 
URL:https://nashvillefirst.org/event/connect-groups-small-group-bible-study-2/2026-08-23/
CATEGORIES:Churchwide
ATTACH;FMTTYPE=image/jpeg:https://nashvillefirst.org/wp-content/uploads/2023/06/connectgroups-logo.jpg
END:VEVENT
BEGIN:VEVENT
DTSTART;TZID=America/Chicago:20260823T103000
DTEND;TZID=America/Chicago:20260823T113000
DTSTAMP:20260425T062219
CREATED:20240308T170451Z
LAST-MODIFIED:20250224T202700Z
UID:10001152-1787481000-1787484600@nashvillefirst.org
SUMMARY:Worship Gathering
DESCRIPTION:Share genuine worship in our Sanctuary Service featuring the powerful preaching of God’s Word.
URL:https://nashvillefirst.org/event/39764-2/2026-08-23/
LOCATION:The Sanctuary\, 108 7th Ave S\, NASHVILLE\, TN\, 37203\, United States
CATEGORIES:Churchwide
ATTACH;FMTTYPE=image/jpeg:https://nashvillefirst.org/wp-content/uploads/2023/06/sundayworship.jpg
END:VEVENT
BEGIN:VEVENT
DTSTART;TZID=America/Chicago:20260830T090000
DTEND;TZID=America/Chicago:20260830T101500
DTSTAMP:20260425T062219
CREATED:20241203T154120Z
LAST-MODIFIED:20241203T154122Z
UID:10001414-1788080400-1788084900@nashvillefirst.org
SUMMARY:Connect Groups - Small Group Bible Study
DESCRIPTION:Nashville First offers a variety of small group Bible Studies called “Connect Groups.” These meet on Sunday mornings beginning at 9 a.m. Our First Kids and First Students are divided into age groups. Most of our adult classes are separated by topic\, age\, or interests. \nClick here for a list of groups. 
URL:https://nashvillefirst.org/event/connect-groups-small-group-bible-study-2/2026-08-30/
CATEGORIES:Churchwide
ATTACH;FMTTYPE=image/jpeg:https://nashvillefirst.org/wp-content/uploads/2023/06/connectgroups-logo.jpg
END:VEVENT
BEGIN:VEVENT
DTSTART;TZID=America/Chicago:20260830T103000
DTEND;TZID=America/Chicago:20260830T113000
DTSTAMP:20260425T062219
CREATED:20240308T170451Z
LAST-MODIFIED:20250224T202700Z
UID:10001153-1788085800-1788089400@nashvillefirst.org
SUMMARY:Worship Gathering
DESCRIPTION:Share genuine worship in our Sanctuary Service featuring the powerful preaching of God’s Word.
URL:https://nashvillefirst.org/event/39764-2/2026-08-30/
LOCATION:The Sanctuary\, 108 7th Ave S\, NASHVILLE\, TN\, 37203\, United States
CATEGORIES:Churchwide
ATTACH;FMTTYPE=image/jpeg:https://nashvillefirst.org/wp-content/uploads/2023/06/sundayworship.jpg
END:VEVENT
END:VCALENDAR